BEGIN:VCALENDAR
VERSION:2.0
PRODID:-//Tukios.com/
BEGIN:VEVENT
UID:b301c9d9-876c-491e-984c-6935c2c761e2@obituaries.klingnerfuneralhome.com
DTSTAMP:20260421T015035Z
DTSTART:20260423T180000Z
DTEND:20260423T183000Z
SUMMARY:Graveside Service
DESCRIPTION:
URL:https://obituaries.klingnerfuneralhome.com/obituaries/steve-schaetzel
LOCATION: 5201 S Southwood Road  Springfield MO 65804
GEO:37.1183468;-93.2366801
END:VEVENT
END:VCALENDAR