BEGIN:VCALENDAR
VERSION:2.0
PRODID:-//Tukios.com/
BEGIN:VEVENT
UID:27d606e6-9bed-4cb4-85db-1c871c32760d@obituaries.klingnerfuneralhome.com
DTSTAMP:20260421T015154Z
DTSTART:20260423T160000Z
DTEND:20260423T173000Z
SUMMARY:Funeral Service
DESCRIPTION:
URL:https://obituaries.klingnerfuneralhome.com/obituaries/steve-schaetzel
LOCATION: 4500 South Lone Pine Ave.  Springfield MO 65804
GEO:37.1322389;-93.2324412
END:VEVENT
END:VCALENDAR