BEGIN:VCALENDAR
VERSION:2.0
PRODID:-//Tukios.com/
BEGIN:VEVENT
UID:20cfc790-e649-4b42-8559-9f069459e28a@obituaries.klingnerfuneralhome.com
DTSTAMP:20260421T015316Z
DTSTART:20260423T150000Z
DTEND:20260423T160000Z
SUMMARY:Visitation
DESCRIPTION:
URL:https://obituaries.klingnerfuneralhome.com/obituaries/steve-schaetzel
LOCATION: 4500 South Lone Pine Ave.  Springfield MO 65804
GEO:37.1322389;-93.2324412
END:VEVENT
END:VCALENDAR