BEGIN:VCALENDAR
VERSION:2.0
PRODID:-//Tukios.com/
BEGIN:VEVENT
UID:c9fdb50e-1a16-4910-b9c3-57d188047759@obituaries.klingnerfuneralhome.com
DTSTAMP:20260424T130738Z
DTSTART:20260428T150000Z
DTEND:20260428T160000Z
SUMMARY:Burial
DESCRIPTION:
URL:https://obituaries.klingnerfuneralhome.com/obituaries/betty-doss
LOCATION: 5234 West State Highway EE  Springfield MO 65802
GEO:37.2269132;-93.3875146
END:VEVENT
END:VCALENDAR