BEGIN:VCALENDAR
VERSION:2.0
PRODID:-//Tukios.com/
BEGIN:VEVENT
UID:4adf2583-69f1-450e-850d-493bf300b681@obituaries.klingnerfuneralhome.com
DTSTAMP:20260424T130739Z
DTSTART:20260428T140000Z
DTEND:20260428T150000Z
SUMMARY:Celebration of Life
DESCRIPTION:
URL:https://obituaries.klingnerfuneralhome.com/obituaries/betty-doss
LOCATION: 5234 West State Highway EE  Springfield MO 65802
GEO:37.2269132;-93.3875146
END:VEVENT
END:VCALENDAR